BEGIN:VCALENDAR
VERSION:2.0
PRODID:ics.py - http://git.io/lLljaA
BEGIN:VEVENT
DTSTAMP:20260519T170000Z
DESCRIPTION:Wolfgang Bauer zählt zu den profiliertesten Kriegs- und Krisenreportern im deutschsprachigen Raum. Wie seine Arbeit vor Ort konkret aussieht und wie es um das Verhältnis von Wahrheit und Krieg steht – darüber und mehr berichtet Bauer im Gespräch mit Ann-Kathrin Mittelstraß vom Bayerischen Rundfunk.
LOCATION:Barfüßerstr 4\, 86150 Augsburg\, DE
ORGANIZER;CN=Stadt Augsburg\, Annahof\, VHS\, Staatstheater\, JMAS:mailto:Stadt Augsburg\, Annahof\, VHS\, Staatstheater\, JMAS
DTSTART:20260519T170000Z
SUMMARY:Die Wahrheit des Krieges - Wie berichtet man aus Kriegs- und Krisengebieten?
UID:61bad151-15f9-46c9-a7de-3160d73a81dc@61ba.org
END:VEVENT
END:VCALENDAR