BEGIN:VCALENDAR
VERSION:2.0
PRODID:ics.py - http://git.io/lLljaA
BEGIN:VEVENT
DTSTAMP:20260702T080000Z
DESCRIPTION:Im Juli wird es ein erstes Treffen für Frauen geben\, die unter Hashimoto Thyreoiditis leiden. Das Gründungstreffen findet am Donnerstag\, 2.7.2026 von 10:00 - 11:30 Uhr in den Räumen der Freien ev. Gemeinde in Bad Wörishofen\, Hauptstraße 56a statt.
DTEND:20260702T093000Z
LOCATION:Hauptstraße 56a\, Bad Wörishofen\, DE
ORGANIZER;CN=Selbsthilfe-Kontaktstelle Kempten / Allgäu:mailto:Selbsthilfe-Kontaktstelle Kempten / Allgäu
DTSTART:20260702T080000Z
SUMMARY:Gründung einer Hashimoto-Selbsthilfegruppe für Frauen in Bad Wörishofen
UID:4e1a01ef-9f47-4f18-9237-3d4bb629e533@4e1a.org
END:VEVENT
END:VCALENDAR