BEGIN:VCALENDAR
VERSION:2.0
PRODID:ics.py - http://git.io/lLljaA
BEGIN:VEVENT
DTSTAMP:20260625T160000Z
DESCRIPTION:Die Selbsthilfe-Kontaktstelle Kempten / Allgäu lädt im Rahmen der Allgäuer Gesundheitswoche zu einem Online-Seminar mit dem Titel „NETZE\, die tragen – die verbindende Kraft der Selbsthilfe“ ein.
DTEND:20260625T180000Z
ORGANIZER;CN=Selbsthilfe-Kontaktstelle Kempten / Allgäu:mailto:Selbsthilfe-Kontaktstelle Kempten / Allgäu
DTSTART:20260625T160000Z
SUMMARY:NETZE\, die tragen – die verbindende Kraft der Selbsthilfe
UID:b2e619b3-b297-4f71-9552-abd8e98fafbc@b2e6.org
END:VEVENT
END:VCALENDAR