BEGIN:VCALENDAR
VERSION:2.0
PRODID:ics.py - http://git.io/lLljaA
BEGIN:VEVENT
DTSTAMP:20260624T120000Z
DESCRIPTION:Autorenlesung mit Silke Schellhammer zum des 5-jährigen Jubiläum der „School of Talents“-Reihe mit anschließender Signierstunde.
DTEND:20260624T130000Z
LOCATION:Stadtbücherei Augsburg\, Ernst-Reuter-Platz 1\, 86150 Augsburg\, DE
ORGANIZER;CN=Stadtbücherei Augsburg:mailto:Stadtbücherei Augsburg
DTSTART:20260624T120000Z
SUMMARY:Autorenlesung mit Silke Schellhammer
UID:d81ebd7a-7f2d-4a7f-b70c-8945faa93db0@d81e.org
END:VEVENT
END:VCALENDAR