BEGIN:VCALENDAR
VERSION:2.0
PRODID:ics.py - http://git.io/lLljaA
BEGIN:VEVENT
DTSTAMP:20261028T073000Z
DESCRIPTION:Der Beginn der außerfamiliären Betreuung ist nach der Geburt häufig der zweite große Übergang\, den Kinder in ihrem Leben zu bewältigen haben.In der zweitägigen Fortbildung werden die zentralen Grundlagen der Partizipatorischen Eingewöhnung praxisnah vermittelt.Referentin: Frau Patricie PetrinovaThema: Partizipatorische EingewöhnungTermine: 28./30.10.2026 jeweils von 8.30 Uhr bis 14:45 UhrUnterrichtseinheiten: 14 UEDie Anmeldung umfasst automatisch alle zwei Termine/Tage (Teilnahme an beiden Terminen/Tagen erforderlich!)Anmeldung unter eveeno.com
DTEND:20261030T134500Z
LOCATION:Hermanstraße 1\, 86150 Augsburg\, DE
ORGANIZER;CN=Amt für Kindertagesbetreuung:mailto:Amt für Kindertagesbetreuung
DTSTART:20261028T073000Z
SUMMARY:Partizipatorische Eingewöhnung
UID:eb28c15b-d121-4603-9983-b67387d9f12f@eb28.org
END:VEVENT
END:VCALENDAR