BEGIN:VCALENDAR
VERSION:2.0
PRODID:ics.py - http://git.io/lLljaA
BEGIN:VEVENT
DTSTAMP:20260508T090000Z
DESCRIPTION:Nach dem erfolgreichen Auftakt im vergangenen Jahr geht die Veranstaltung in die zweite Runde und bringt Menschen mit und ohne Behinderung\, Angehörige sowie Fachkräfte zusammen.Veranstaltet wird das Event vom Pflegeteam Stuhler gemeinsam mit dem Freiwilligen-Zentrum Augsburg\, in Kooperation mit der Stadt Augsburg und dem Staatstheater Augsburg.Mit dabei sind unter anderem der Paralympics-Medaillengewinner Mathias Mester\, Ultratriathlet Bernhard Nuss\, Extremsportler Darius Braun\, Kina Yakimova sowie Marcel Friederich von den „Mutmacher-Menschen“. Ergänzt wird das Programm durch einen Poetry Slam und kulturelle Beiträge.„Inklusion darf kein abstrakter Begriff bleiben. Sie muss im Alltag sichtbar und erlebbar sein“\, sagt Patricia Stuhler\, Veranstalterin und Geschäftsführerin des Pflegeteams Stuhler.Die Teilnahme ist kostenfrei\, eine Anmeldung wird empfohlenwww.wirbewegeninklusion.de
DTEND:20260508T210000Z
LOCATION:Gögginger Straße 10\, 86159 Augsburg\, DE
DTSTART:20260508T090000Z
SUMMARY:Wir bewegen Inklusion
UID:21ce026b-1f9d-49cf-a8a2-4f07aa6d3cf2@21ce.org
END:VEVENT
END:VCALENDAR