BEGIN:VCALENDAR
VERSION:2.0
PRODID:ics.py - http://git.io/lLljaA
BEGIN:VEVENT
DTSTAMP:20260727T160000Z
DESCRIPTION:Das Water & Sound Festival (23.7.–1.8.2026) verbindet in der UNESCO-Welterbestadt Augsburg zeitgenössische globale Musik mit Kunst\, Wasserprojekten und dialogischen Formaten rund um die globale Ressource Wasser. Unter dem Leitmotiv „Waterways (Wasserwege)“ fragt das Festival 2026\, wie Kanäle\, Flüsse und Seerouten Städte\, Historie und heutige globale Verflechtungen geprägt haben. Neben den beliebten Konzerten im Annahof\, bei denen internationale Acts und Bands von Brasilien bis Nigeria auftreten\, zählt eine exklusive Eigenproduktion am 30. Juli im Parktheater zu den Höhepunkten des Programms. Vertieft werden die Thematiken des Festivals durch eine Kunstinstallation in der ehemaligen Dominikanerkirche St. Magdalena\, Performances am Kuhsee und im Siebentischwald\, Panels und Führungen an Welterbe-Orten und diverse Workshops.Das genaue Programm zu Water & Sound 2026 gibt es demnächst hier.
DTEND:20260727T210000Z
DTSTART:20260727T160000Z
SUMMARY:Water and Sound 2026
UID:b5185719-29c8-4c6a-a128-5c16d68aa430@b518.org
END:VEVENT
END:VCALENDAR