BEGIN:VCALENDAR
VERSION:2.0
PRODID:ics.py - http://git.io/lLljaA
BEGIN:VEVENT
DTSTAMP:20261002T180000Z
DESCRIPTION:Ehrlicher\, handgemachter Classic Rock und Blues Sound
LOCATION:Kulturhaus abraxas\, Sommestraße 30\, 86156 Augsburg\, DE
ORGANIZER;CN=Bernhard Christi:mailto:Bernhard Christi
DTSTART:20261002T180000Z
SUMMARY:L-Tones: Goldener Rocktober
UID:b7625b4e-2300-4eb8-b726-83ffd282af0a@b762.org
END:VEVENT
END:VCALENDAR