BEGIN:VCALENDAR
VERSION:2.0
PRODID:ics.py - http://git.io/lLljaA
BEGIN:VEVENT
DTSTAMP:20261016T180000Z
DESCRIPTION:Am Freitag\, den 16. Oktober 2026\, öffnet sich im Kulturhaus abraxas in Augsburg die Manege des Lebens.
LOCATION:Kulturhaus abraxas\, Sommestraße 30\, 86156 Augsburg\, DE
ORGANIZER;CN=Mom Bee:mailto:Mom Bee
DTSTART:20261016T180000Z
SUMMARY:Lebens-Zirkus - Ensemble Mom Bee
UID:44a1870c-22ef-4b83-bf67-e5a888e05d72@44a1.org
END:VEVENT
END:VCALENDAR