BEGIN:VCALENDAR
VERSION:2.0
PRODID:ics.py - http://git.io/lLljaA
BEGIN:VEVENT
DTSTAMP:20260504T080000Z
DESCRIPTION:Die Liquidität ist für jedes Unternehmen essentiell wichtig. Dementsprechend sollte ein Unternehmen immer den Überblick über die eigene Finanzsituation behalten und über eine strukturierte Finanzplanung verfügen.
DTEND:20260504T103000Z
LOCATION:Stettenstraße 1 + 3\, 86150 Augsburg\, DE
ORGANIZER;CN=IHK Schwaben:mailto:IHK Schwaben
DTSTART:20260504T080000Z
SUMMARY:IHK Spezial: Finanzplanung
UID:fb2451a4-8625-4dff-9db6-d83cb47472de@fb24.org
END:VEVENT
END:VCALENDAR