BEGIN:VCALENDAR
VERSION:2.0
PRODID:ics.py - http://git.io/lLljaA
BEGIN:VEVENT
DTSTAMP:20260607T080000Z
DESCRIPTION:Am Sonntag\, den 7. Juni 2026 wird bundesweit der UNESCO-Welterbetag gefeiert\, der in diesem Jahr bereits zum 21. Mal stattfindet. Motto: „Gemeinsam für Frieden und Verständigung“.Das Augsburger UNESCO-Welterbe-Büro lädt zu diesem Anlass gemeinsam mit der Deutschen UNESCO-Kommission und dem Verein UNESCO-Welterbestätten Deutschland e.V. herzlich dazu ein\, das UNESCO-Welterbe Augsburger Wassermanagement-System zu erkunden.Programm in AugsburgWeitere Informationen zum Welterbetag 2026
DTEND:20260607T150000Z
LOCATION:Rathausplatz 1\, 86150 Augsburg\, DE
DTSTART:20260607T080000Z
SUMMARY:UNESCO-Welterbetag 2026
UID:2cd1e7d8-c761-4886-a6a6-6d8a594782fa@2cd1.org
END:VEVENT
END:VCALENDAR