BEGIN:VCALENDAR
VERSION:2.0
PRODID:ics.py - http://git.io/lLljaA
BEGIN:VEVENT
DTSTAMP:20260625T093000Z
DESCRIPTION:Das Gründungspicknick bietet Gründerinnen\, Gründern und Interessierten eine unkomplizierte Gelegenheit zum Netzwerken und zum Austausch über die Selbstständigkeit.
DTEND:20260625T110000Z
LOCATION:Maximilianstraße 41\, 86150 Augsburg\, DE
ORGANIZER;CN=Wirtschaftsförderung Stadt Ausgburg:mailto:Wirtschaftsförderung Stadt Ausgburg
DTSTART:20260625T093000Z
SUMMARY:Gründungspicknick
UID:92143282-0766-4dac-8bac-cc557a8b362c@9214.org
END:VEVENT
END:VCALENDAR