BEGIN:VCALENDAR
VERSION:2.0
PRODID:ics.py - http://git.io/lLljaA
BEGIN:VEVENT
DTSTAMP:20260521T093000Z
DESCRIPTION:Das Gründungspicknick bietet Gründerinnen\, Gründern und Interessierten eine unkomplizierte Gelegenheit zum Netzwerken und zum Austausch über die Selbstständigkeit.
DTEND:20260521T110000Z
LOCATION:Maximilianstraße 41\, 86150 Augsburg\, DE
ORGANIZER;CN=Wirtschaftsförderung Stadt Ausgburg:mailto:Wirtschaftsförderung Stadt Ausgburg
DTSTART:20260521T093000Z
SUMMARY:Gründungspicknick
UID:83cf31ff-beed-4859-9823-a44468ee830f@83cf.org
END:VEVENT
END:VCALENDAR