BEGIN:VCALENDAR
VERSION:2.0
PRODID:ics.py - http://git.io/lLljaA
BEGIN:VEVENT
DTSTAMP:20260801T170000Z
DESCRIPTION:Ein Brückenschlag von Mittelalter zur Moderne – Musik und Improvisation
LOCATION:Beim Glaspalast 1\, 86153 Augsburg\, DE
ORGANIZER;CN=Kunstsammlungen und Museen Augsburg:mailto:Kunstsammlungen und Museen Augsburg
DTSTART:20260801T170000Z
SUMMARY:Waves
UID:1c01d6a6-561a-4c49-8daf-36739a421fc8@1c01.org
END:VEVENT
END:VCALENDAR