BEGIN:VCALENDAR
VERSION:2.0
PRODID:ics.py - http://git.io/lLljaA
BEGIN:VEVENT
DTSTAMP:20260920T170000Z
DESCRIPTION:Barocksolisten München\, Luise Enzian – Harfe\, Dorothea Seel – Flöte\, Andreas Helm - Oboe\, Christoph Hammer – Hammerflügel
LOCATION:Maximilianstraße 46\, 86150 Augsburg\, DE
ORGANIZER;CN=Kunstsammlungen und Museen Augsburg:mailto:Kunstsammlungen und Museen Augsburg
DTSTART:20260920T170000Z
SUMMARY:Stein-Festival: Orchester-Festkonzert „Mozart in Paris”
UID:39f72975-70b6-4168-a70e-c2832f4e8afe@39f7.org
END:VEVENT
END:VCALENDAR