BEGIN:VCALENDAR
VERSION:2.0
PRODID:ics.py - http://git.io/lLljaA
BEGIN:VEVENT
DTSTAMP:20260920T090000Z
DESCRIPTION:Mit Emma Urriani – Mezzosopran\, Daniel Sauer – Bariton\, Steve Roy – Hammerflügel
LOCATION:Maximilianstraße 46\, 86150 Augsburg\, DE
ORGANIZER;CN=Kunstsammlungen und Museen Augsburg:mailto:Kunstsammlungen und Museen Augsburg
DTSTART:20260920T090000Z
SUMMARY:Stein-Festival: Romances Impériales
UID:3dbeb963-64c2-4689-9ea5-0112f44c5802@3dbe.org
END:VEVENT
END:VCALENDAR