BEGIN:VCALENDAR
VERSION:2.0
PRODID:ics.py - http://git.io/lLljaA
BEGIN:VEVENT
DTSTAMP:20260919T170000Z
DESCRIPTION:Claviersalon IV
LOCATION:Maximilianstraße 46\, 86150 Augsburg\, DE
ORGANIZER;CN=Kunstsammlungen und Museen Augsburg:mailto:Kunstsammlungen und Museen Augsburg
DTSTART:20260919T170000Z
SUMMARY:Stein-Festival: „…eine außergewöhnliche Musikerin\, bemerkenswerte Pianistin\, eine Frau spritzigen Geistes...”
UID:6f069c62-968b-4f4d-81f2-08d339733c83@6f06.org
END:VEVENT
END:VCALENDAR