BEGIN:VCALENDAR
VERSION:2.0
PRODID:ics.py - http://git.io/lLljaA
BEGIN:VEVENT
DTSTAMP:20260919T150000Z
DESCRIPTION:Claviersalon III
LOCATION:Maximilianstraße 46\, 86150 Augsburg\, DE
ORGANIZER;CN=Kunstsammlungen und Museen Augsburg:mailto:Kunstsammlungen und Museen Augsburg
DTSTART:20260919T150000Z
SUMMARY:Stein-Festival: „Lassen Sie ihr das Fortepiano von unserem lieben Stein zu Augsburg hören”
UID:58ba338d-cbcb-4a92-8ff4-6acb6e0d93cd@58ba.org
END:VEVENT
END:VCALENDAR