BEGIN:VCALENDAR
VERSION:2.0
PRODID:ics.py - http://git.io/lLljaA
BEGIN:VEVENT
DTSTAMP:20260919T130000Z
DESCRIPTION:Claviersalon II
LOCATION:Maximilianstraße 46\, 86150 Augsburg\, DE
ORGANIZER;CN=Kunstsammlungen und Museen Augsburg:mailto:Kunstsammlungen und Museen Augsburg
DTSTART:20260919T130000Z
SUMMARY:Stein-Festival: Ein Wunderkind in Paris
UID:315dae71-8983-4388-9362-cc26eac5f971@315d.org
END:VEVENT
END:VCALENDAR