BEGIN:VCALENDAR
VERSION:2.0
PRODID:ics.py - http://git.io/lLljaA
BEGIN:VEVENT
DTSTAMP:20260919T110000Z
DESCRIPTION:Claviersalon I (Konzert mit Moderation)
LOCATION:Maximilianstraße 46\, 86150 Augsburg\, DE
ORGANIZER;CN=Kunstsammlungen und Museen Augsburg:mailto:Kunstsammlungen und Museen Augsburg
DTSTART:20260919T110000Z
SUMMARY:Stein-Festival: Ein Meister\, der unter den Größten auf diesem Instrumente zu zählen war
UID:df33a626-44ef-45d6-a6df-5cb842aa2968@df33.org
END:VEVENT
END:VCALENDAR