BEGIN:VCALENDAR
VERSION:2.0
PRODID:ics.py - http://git.io/lLljaA
BEGIN:VEVENT
DTSTAMP:20260919T090000Z
DESCRIPTION:Vortrag: Musikleben in Augsburg um 1800
LOCATION:Maximilianstraße 46\, 86150 Augsburg\, DE
ORGANIZER;CN=Kunstsammlungen und Museen Augsburg:mailto:Kunstsammlungen und Museen Augsburg
DTSTART:20260919T090000Z
SUMMARY:Stein-Festival: (Un)Bekannte Geschichten aus der Musikgeschichte
UID:f8904b86-917c-4814-905c-f70874dc74c4@f890.org
END:VEVENT
END:VCALENDAR