BEGIN:VCALENDAR
VERSION:2.0
PRODID:ics.py - http://git.io/lLljaA
BEGIN:VEVENT
DTSTAMP:20261213T170000Z
DESCRIPTION:Weihnachtliche Musik aus verschiedenen Jahrhunderten
LOCATION:Maximilianstraße 46\, 86150 Augsburg\, DE
ORGANIZER;CN=Kunstsammlungen und Museen Augsburg:mailto:Kunstsammlungen und Museen Augsburg
DTSTART:20261213T170000Z
SUMMARY:Konzert: „Still\, Still!“
UID:48d59f88-de93-4b25-9990-91cedb681800@48d5.org
END:VEVENT
END:VCALENDAR