BEGIN:VCALENDAR
VERSION:2.0
PRODID:ics.py - http://git.io/lLljaA
BEGIN:VEVENT
DTSTAMP:20260927T160000Z
DESCRIPTION:Werke von KomponistInnen des 18. Jahrhunderts
LOCATION:Maximilianstraße 46\, 86150 Augsburg\, DE
ORGANIZER;CN=Kunstsammlungen und Museen Augsburg:mailto:Kunstsammlungen und Museen Augsburg
DTSTART:20260927T160000Z
SUMMARY:Hammerklavier-Rezital
UID:267d330c-714b-4f75-ba10-bb65710531bf@267d.org
END:VEVENT
END:VCALENDAR