BEGIN:VCALENDAR
VERSION:2.0
PRODID:ics.py - http://git.io/lLljaA
BEGIN:VEVENT
DTSTAMP:20260731T170000Z
DESCRIPTION:Die Mozart Solisten mit Vanessa Fasoli – Mezzosopran\, Senta Krämer – Violine\, Thomas Seitz – Trompete\, Susanne Gutfleisch – Violoncello\, Stephanie Knauer – Hammerflügel
LOCATION:Maximilianstraße 46\, 86150 Augsburg\, DE
ORGANIZER;CN=Kunstsammlungen und Museen Augsburg:mailto:Kunstsammlungen und Museen Augsburg
DTSTART:20260731T170000Z
SUMMARY:Barocke Perlen der Kammermusik
UID:2c9e084b-71dc-4d0b-8253-1181a3678b80@2c9e.org
END:VEVENT
END:VCALENDAR