BEGIN:VCALENDAR
VERSION:2.0
PRODID:ics.py - http://git.io/lLljaA
BEGIN:VEVENT
DTSTAMP:20260719T163000Z
DESCRIPTION:7. Kammerkonzert in Kooperation mit Ins Theater e.V.
LOCATION:Maximilianstraße 46\, 86150 Augsburg\, DE
ORGANIZER;CN=Kunstsammlungen und Museen Augsburg:mailto:Kunstsammlungen und Museen Augsburg
DTSTART:20260719T163000Z
SUMMARY:Barocker Sommerabend
UID:6836b417-7222-4576-a607-2b3e52c56569@6836.org
END:VEVENT
END:VCALENDAR