BEGIN:VCALENDAR
VERSION:2.0
PRODID:ics.py - http://git.io/lLljaA
BEGIN:VEVENT
DTSTAMP:20260711T170000Z
DESCRIPTION:Kammerkonzert mit Filmmusik von Ennio Morricone bis Tschaikowski
LOCATION:Maximilianstraße 46\, 86150 Augsburg\, DE
ORGANIZER;CN=Kunstsammlungen und Museen Augsburg:mailto:Kunstsammlungen und Museen Augsburg
DTSTART:20260711T170000Z
SUMMARY:An Italian Dream
UID:3eaa64ae-b2ae-424f-9176-e76b6713bbd4@3eaa.org
END:VEVENT
END:VCALENDAR