BEGIN:VCALENDAR
VERSION:2.0
PRODID:ics.py - http://git.io/lLljaA
BEGIN:VEVENT
DTSTAMP:20260710T170000Z
DESCRIPTION:Kammerkonzert mit Filmmusik von Ennio Morricone bis Tschaikowski
LOCATION:Maximilianstraße 46\, 86150 Augsburg\, DE
ORGANIZER;CN=Kunstsammlungen und Museen Augsburg:mailto:Kunstsammlungen und Museen Augsburg
DTSTART:20260710T170000Z
SUMMARY:An Italian Dream
UID:0c2e1427-9800-4e7e-b84c-046cb6444636@0c2e.org
END:VEVENT
END:VCALENDAR