BEGIN:VCALENDAR
VERSION:2.0
PRODID:ics.py - http://git.io/lLljaA
BEGIN:VEVENT
DTSTAMP:20260704T170000Z
DESCRIPTION:Klaviertrios von Mozart\, Kraus und Sixt\, eine Kooperation mit der Deutschen Mozart-Gesellschaft
LOCATION:Maximilianstraße 46\, 86150 Augsburg\, DE
ORGANIZER;CN=Kunstsammlungen und Museen Augsburg:mailto:Kunstsammlungen und Museen Augsburg
DTSTART:20260704T170000Z
SUMMARY:Klaviertrios von Mozart\, Kraus und Sixt
UID:b73201de-7e50-47a4-bb67-3c7a87d8217f@b732.org
END:VEVENT
END:VCALENDAR