BEGIN:VCALENDAR
VERSION:2.0
PRODID:ics.py - http://git.io/lLljaA
BEGIN:VEVENT
DTSTAMP:20260614T153000Z
DESCRIPTION:Musik von Johann Dowland (zum 400. Todesjahr)\, Claudia Sessa\, Giovanni Girolamo Kapsberger\, Georg Friedrich Händel u.a.
LOCATION:Maximilianstraße 46\, 86150 Augsburg\, DE
ORGANIZER;CN=Kunstsammlungen und Museen Augsburg:mailto:Kunstsammlungen und Museen Augsburg
DTSTART:20260614T153000Z
SUMMARY:Konzert: Italienreise
UID:1ac925c3-3c9b-41ad-b9be-7bb8e5c7ca6b@1ac9.org
END:VEVENT
END:VCALENDAR