BEGIN:VCALENDAR
VERSION:2.0
PRODID:ics.py - http://git.io/lLljaA
BEGIN:VEVENT
DTSTAMP:20260512T170000Z
DESCRIPTION:Konzert im Rahmen des Mozartfest Augsburg und in Kooperation mit der Deutschen Mozart-Gesellschaft
LOCATION:Maximilianstraße 46\, 86150 Augsburg\, DE
ORGANIZER;CN=Kunstsammlungen und Museen Augsburg:mailto:Kunstsammlungen und Museen Augsburg
DTSTART:20260512T170000Z
SUMMARY:Konzert: Mozart a quattro
UID:fdabc31c-acdd-4e1f-bcef-c38630c25c19@fdab.org
END:VEVENT
END:VCALENDAR