BEGIN:VCALENDAR
VERSION:2.0
PRODID:ics.py - http://git.io/lLljaA
BEGIN:VEVENT
DTSTAMP:20260426T160000Z
DESCRIPTION:Barockmusik in London um 1750
LOCATION:Maximilianstraße 46\, 86150 Augsburg\, DE
ORGANIZER;CN=Kunstsammlungen und Museen Augsburg:mailto:Kunstsammlungen und Museen Augsburg
DTSTART:20260426T160000Z
SUMMARY:Konzert: Voyage to London
UID:a16b26f8-c7e0-47f8-9227-b9990e35b71a@a16b.org
END:VEVENT
END:VCALENDAR