BEGIN:VCALENDAR
VERSION:2.0
PRODID:ics.py - http://git.io/lLljaA
BEGIN:VEVENT
DTSTAMP:20260618T140000Z
DESCRIPTION:Wir erkunden gemeinsam das spannende historische Areal rund um das ehemalige Stadttor und die Wassertürme.Ausgehend vom Roten Tor\, das einst den südlichen Zugang zur Stadt bildete\, folgt unser Spaziergang den Spuren aus reichsstädtischer Zeit – am Heilig-Geist- Spital und dem Kräutergarten vorbei hinauf auf die ehemaligen Befestigungsanlagen\, die Blick auf die Freilichtbühne bieten. Highlight der Führung ist die Besichtigung des ansonsten nicht zugänglichen Aquädukts\, über das einst Trink- und Brauchwasser strikt voneinander getrennt in die Stadt und in das Wasserwerk geleitetwurden.Im Wasserwerk am Roten Tor\, das seit 2019 zum UNESCO-Welterbe „Das Augsburger Wassermanagement- System“ zählt\, ist die technische Meisterleistung der frühen Trinkwasserversorgung der Stadt erkennbar.Preis: 8 EuroDauer: 1\,5 StundenTickets sind im Welterbe-Infozentrum am Rathausplatz
DTEND:20260618T153000Z
LOCATION:Am Roten Tor 1\, 86150 Augsburg\, DE
ORGANIZER;CN=Welterbe-Büro Stadt Augsburg:mailto:Welterbe-Büro Stadt Augsburg
DTSTART:20260618T140000Z
SUMMARY:TORE\, TÜRME\, TRINKWASSER - Führung rund ums Rote Tor
UID:414beb79-33a6-43c4-a3a8-527552704f75@414b.org
END:VEVENT
END:VCALENDAR