BEGIN:VCALENDAR
VERSION:2.0
PRODID:ics.py - http://git.io/lLljaA
BEGIN:VEVENT
DTSTAMP:20261030T180000Z
DESCRIPTION:Internationale Künstlerinnen und Künstler bespielen die Räume auf vielfältige Weise\, interaktive Kunstwerke laden zum Mitmachen und Nachdenken ein. Besuchende können sich außerdem über experimentelle Klangerlebnisse und ein besonderes Konzert- und Performanceprogramm freuen. Auf große und kleine Gäste warten spannende Workshops sowie exklusive Führungen und Gespräche mit Künstlerinnen und Künstlern.Das Augsburger Medienkunstfestival lab30 im Kulturhaus abraxas geht in die mittlerweile 25. Rundelab.30 
DTEND:20261030T220000Z
LOCATION:Sommestraße 30\, 86156 Augsburg\, DE
DTSTART:20261030T180000Z
SUMMARY:Medienkunstfestival lab30
UID:d9fabde9-c8a1-431b-a9c3-430bbfb2b3f6@d9fa.org
END:VEVENT
END:VCALENDAR