BEGIN:VCALENDAR
VERSION:2.0
PRODID:ics.py - http://git.io/lLljaA
BEGIN:VEVENT
DTSTAMP:20260703T130000Z
DESCRIPTION:Bei "zusammen digital" helfen Schülerinnen und Schüler ab der 7. Klasse\, die eine spezielle Ausbildung haben\, bei Fragen rund um Internet\, Smartphone und Tablet.
DTEND:20260703T150000Z
LOCATION:Stadtbücherei Augsburg\, Ernst-Reuter-Platz 1\, 86150 Augsburg\, DE
ORGANIZER;CN=Stadt Augsburg (AKJF\, Stadtbücherei):mailto:Stadt Augsburg (AKJF\, Stadtbücherei)
DTSTART:20260703T130000Z
SUMMARY:zusammen digital: Smartphone leicht gemacht. Vor Ort. Für Alle
UID:d2e5ec5b-ba82-4f23-9afb-1a7920e83f4b@d2e5.org
END:VEVENT
END:VCALENDAR