BEGIN:VCALENDAR
VERSION:2.0
PRODID:ics.py - http://git.io/lLljaA
BEGIN:VEVENT
DTSTAMP:20260524T180000Z
DESCRIPTION:Theater in türkischer Sprache
LOCATION:Kulturhaus abraxas\, Sommestraße 30\, 86156 Augsburg\, DE
ORGANIZER;CN=AY Events:mailto:AY Events
DTSTART:20260524T180000Z
SUMMARY:12 Öfkeli Adam
UID:04a99f4e-1d1c-4fab-bca8-bc8902f28bad@04a9.org
END:VEVENT
END:VCALENDAR