BEGIN:VCALENDAR
VERSION:2.0
PRODID:ics.py - http://git.io/lLljaA
BEGIN:VEVENT
DTSTAMP:20260524T130000Z
DESCRIPTION:Kindertheater in türkischer Sprache
LOCATION:Kulturhaus abraxas\, Sommestraße 30\, 86156 Augsburg\, DE
ORGANIZER;CN=AY Events:mailto:AY Events
DTSTART:20260524T130000Z
SUMMARY:Nasreddin Hoca Yollarda
UID:ebe0d451-f4ac-43e0-8f2a-ea409c7767ad@ebe0.org
END:VEVENT
END:VCALENDAR