BEGIN:VCALENDAR
VERSION:2.0
PRODID:ics.py - http://git.io/lLljaA
BEGIN:VEVENT
DTSTAMP:20260424T130000Z
DESCRIPTION:Umweltreferent Reiner Erben und Sozialreferent Martin Schenkelberg laden zu einer Sprechstunde der besonderen Art ein: Am Freitag\, 24. April\, sind sie ab 15 Uhr auf dem Spielplatz im Wittelsbacher-Park. Wer Lust hat\, kann auf ein spontanes Gespräch vorbeikommen.
LOCATION:Wittelsbacher Park\, Spielplatz\, Augsburg\, DE
ORGANIZER;CN=Stadt Augsburg:mailto:Stadt Augsburg
DTSTART:20260424T130000Z
SUMMARY:Spielplatz-Gespräch mit Reiner Erben und Martin Schenkelberg
UID:504df1f0-7b1d-46ef-894f-2b793e56e7be@504d.org
END:VEVENT
END:VCALENDAR