BEGIN:VCALENDAR
VERSION:2.0
PRODID:ics.py - http://git.io/lLljaA
BEGIN:VEVENT
DTSTAMP:20260610T220000Z
DESCRIPTION:Am Donnerstag\, 11.06.2026\, findet die nächste Online-Versteigerung von Fundsachen und Fundrädern statt. Ab 14. Mai können die Artikel eingesehen werden. 
ORGANIZER;CN=Fundbüro der Stadt Augsburg:mailto:Fundbüro der Stadt Augsburg
DTSTART:20260610T220000Z
SUMMARY:Fundsachenversteigerung
UID:f36033ec-0663-4676-82a7-666f78edfa38@f360.org
END:VEVENT
END:VCALENDAR