BEGIN:VCALENDAR
VERSION:2.0
PRODID:ics.py - http://git.io/lLljaA
BEGIN:VEVENT
DTSTAMP:20260512T173000Z
DESCRIPTION:Neugründung der Selbsthilfegruppe für Eltern von Kindern mit ADHS. Willkommen\, sind alle Eltern und Angehörigen von Kindern mit ADHS (mit oder ohne Diagnose).
LOCATION:Pestalozzistraße 1\, Bobingen\, DE
ORGANIZER;CN=Selbsthilfegruppe für Eltern von Kindern mit ADHS:mailto:Selbsthilfegruppe für Eltern von Kindern mit ADHS
DTSTART:20260512T173000Z
SUMMARY:Neugründung der Selbsthilfegruppe für Eltern von Kindern mit ADHS
UID:a9697d6b-3670-48e2-a55b-b4f2a4bc7a14@a969.org
END:VEVENT
END:VCALENDAR