BEGIN:VCALENDAR
VERSION:2.0
PRODID:ics.py - http://git.io/lLljaA
BEGIN:VEVENT
DTSTAMP:20260506T150000Z
DESCRIPTION:Seminarleitung/ReferentIn: Jürgen Kretschmer\, unabhängige Patientenberatung SchwabenDieser Vortrag soll die gängigsten Fragen klären und Ihnen beim Umgang und der Verwaltung mit ihrer elektronischen Akte helfen.Was ist die elektronische Patientenakte?Wie funktioniert sie?Wer hat Zugriff darauf? Wer sieht was?Was ist zu beachten?Welche Daten kommen in die Akte?Welchen Nutzen hat sie für uns jetzt und in Zukunft?Wie kann ich Einsicht nehmen?Kann ich Daten auch wieder löschen?Anmeldung bis Donnerstag 30.04.2026 bei Kontaktstelle für Selbsthilfegruppen Augsburg / Schwaben Nord(Tel. (0821) 324 – 2013\, Mail shg.gesundheitsamt@augsburg.de oder über unser Kontaktformular)
DTEND:20260506T170000Z
LOCATION:Zeugplatz 4\, 86150 Augsburg\, DE
ORGANIZER;CN=Kontaktstelle für Selbsthilfegruppen Augsburg / Schwaben Nord:mailto:Kontaktstelle für Selbsthilfegruppen Augsburg / Schwaben Nord
DTSTART:20260506T150000Z
SUMMARY:Vortrag elektronische Patientenakte (ePA)
UID:e14163c4-5b3a-47d6-bb18-8fec17629de8@e141.org
END:VEVENT
END:VCALENDAR