BEGIN:VCALENDAR
VERSION:2.0
PRODID:ics.py - http://git.io/lLljaA
BEGIN:VEVENT
DTSTAMP:20261210T163000Z
DESCRIPTION:Seelische Belastungen und psychische Erkrankungen kommen auch im Alter vor. Manchmal genügt ein offenes Ohr. Manchmal benötigt es professionelle Hilfe. Wie kann ich als Angehöriger helfen und wann sollte ich mir weitere Hilfe holen?
LOCATION:Werner-von-Siemens-Straße 10\, Augsburg\, DE
ORGANIZER;CN=Malteser Augsburg und Pflegestützpunkt Augsburg:mailto:Malteser Augsburg und Pflegestützpunkt Augsburg
DTSTART:20261210T163000Z
SUMMARY:Psychische Erkrankung
UID:a0a4b99b-3ead-4fd1-8d97-0d5bbc5c49b9@a0a4.org
END:VEVENT
END:VCALENDAR