BEGIN:VCALENDAR
VERSION:2.0
PRODID:ics.py - http://git.io/lLljaA
BEGIN:VEVENT
DTSTAMP:20261203T163000Z
DESCRIPTION:Pflege ist so vielfältig wie die Gesellschaft. Umso wichtiger ist es\, sich auf diese individuellen Bedürfnisse einzustellen. Wie kann das gut gelingen\, um bedürfnisorientierte Pflege und eine wertschätzende Versorgung zu ermöglichen?
LOCATION:Werner-von-Siemens-Straße 10\, Augsburg\, DE
ORGANIZER;CN=Malteser Augsburg und Pflegestützpunkt Augsburg:mailto:Malteser Augsburg und Pflegestützpunkt Augsburg
DTSTART:20261203T163000Z
SUMMARY:Kultursensible Pflege
UID:c40f9829-353e-450c-a6f1-9174012749c6@c40f.org
END:VEVENT
END:VCALENDAR