BEGIN:VCALENDAR
VERSION:2.0
PRODID:ics.py - http://git.io/lLljaA
BEGIN:VEVENT
DTSTAMP:20261119T163000Z
DESCRIPTION:Im Zusammenhang mit Pflegebedürftigkeit können komplexe Probleme auftreten. Zu wissen\, an wen Sie sich wenden können und wie Sie erforderliche Anträge stellen können\, kann eine große Entlastung darstellen.
LOCATION:Werner-von-Siemens-Straße 10\, Augsburg\, DE
ORGANIZER;CN=Malteser Augsburg und Pflegestützpunkt Augsburg:mailto:Malteser Augsburg und Pflegestützpunkt Augsburg
DTSTART:20261119T163000Z
SUMMARY:Unterstützungsmöglichkeiten im häuslichen Bereich bei Pflegebedürftigkeit
UID:f3a3c855-835c-4ab2-a110-2e783fd471f7@f3a3.org
END:VEVENT
END:VCALENDAR