BEGIN:VCALENDAR
VERSION:2.0
PRODID:ics.py - http://git.io/lLljaA
BEGIN:VEVENT
DTSTAMP:20261022T153000Z
DESCRIPTION:Wie verhindert man Gewalt im Pflegesetting? Was kann ich dagegen tun und was sollte ich noch wissen?
LOCATION:Werner-von-Siemens-Straße 10\, Augsburg\, DE
ORGANIZER;CN=Malteser Augsburg und Pflegestützpunkt Augsburg:mailto:Malteser Augsburg und Pflegestützpunkt Augsburg
DTSTART:20261022T153000Z
SUMMARY:Gewaltprävention in der Pflege
UID:b2534e2b-9861-4c3a-abfd-d546fed4d9f7@b253.org
END:VEVENT
END:VCALENDAR