BEGIN:VCALENDAR
VERSION:2.0
PRODID:ics.py - http://git.io/lLljaA
BEGIN:VEVENT
DTSTAMP:20260924T153000Z
DESCRIPTION:Ein verhinderter Sturz ist der beste Sturz. Mit Tipps und Tricks aus dem Workshop können Stürze vermieden und so die Sicherheit für Pflegebedürftige weiter verbessert werden.
LOCATION:Werner-von-Siemens-Straße 10\, Augsburg\, DE
ORGANIZER;CN=Malteser Augsburg und Pflegestützpunkt Augsburg:mailto:Malteser Augsburg und Pflegestützpunkt Augsburg
DTSTART:20260924T153000Z
SUMMARY:Sturzprophylaxe
UID:2df9b4cb-0288-40e9-8f0d-611563ab45c4@2df9.org
END:VEVENT
END:VCALENDAR