BEGIN:VCALENDAR
VERSION:2.0
PRODID:ics.py - http://git.io/lLljaA
BEGIN:VEVENT
DTSTAMP:20260917T153000Z
DESCRIPTION:Weniger Kalorien\, aber mehr Nährstoffe – was hat die mediterrane Ernährungspyramide damit zu tun und was bedeutet das?
LOCATION:Werner-von-Siemens-Straße 10\, Augsburg\, DE
ORGANIZER;CN=Malteser Augsburg und Pflegestützpunkt Augsburg:mailto:Malteser Augsburg und Pflegestützpunkt Augsburg
DTSTART:20260917T153000Z
SUMMARY:Ernährung im Alter
UID:2b23b3f7-0e24-4c56-b88c-1ab9930b34c9@2b23.org
END:VEVENT
END:VCALENDAR