BEGIN:VCALENDAR
VERSION:2.0
PRODID:ics.py - http://git.io/lLljaA
BEGIN:VEVENT
DTSTAMP:20260521T153000Z
DESCRIPTION:Kleinere und größere Notfälle kommen auch im häuslichen Pflegeumfeld vor. Die Themen der Ersten Hilfe für die Pflege zu Hause bieten Sicherheit und eine gute Vorbereitung für den Ernstfall.
LOCATION:Werner-von-Siemens-Straße 10\, Augsburg\, DE
ORGANIZER;CN=Malteser Augsburg und Pflegestützpunkt Augsburg:mailto:Malteser Augsburg und Pflegestützpunkt Augsburg
DTSTART:20260521T153000Z
SUMMARY:Erste Hilfe für pflegende Angehörige
UID:173cad0a-fe1a-42db-9349-520e839d2b11@173c.org
END:VEVENT
END:VCALENDAR