BEGIN:VCALENDAR
VERSION:2.0
PRODID:ics.py - http://git.io/lLljaA
BEGIN:VEVENT
DTSTAMP:20260922T133000Z
DESCRIPTION:Was ist gutes Spielzeug? Wann ist Spielzeug „pädagogisch wertvoll“? Und warum haben Kinder und Jugendliche oft einen ganz anderen Blick auf Spielzeug und Spiele als Erwachsene?Referent: Hr. Dr. Volker MehringerUnterrichtseinheiten: 3 UEAnmeldung unter eveeno.com
DTEND:20260922T160000Z
LOCATION:Hermanstraße 1\, 86150 Augsburg\, DE
ORGANIZER;CN=Amt für Kindertagesbetreuung:mailto:Amt für Kindertagesbetreuung
DTSTART:20260922T133000Z
SUMMARY:Spielzeugbewertung und -auswahl – Praktische Einblicke in die Spielzeugforschung und Spielpädagogik
UID:3cf6fdf3-0255-4169-ba34-60bf60449562@3cf6.org
END:VEVENT
END:VCALENDAR