BEGIN:VCALENDAR
VERSION:2.0
PRODID:ics.py - http://git.io/lLljaA
BEGIN:VEVENT
DTSTAMP:20261005T160000Z
DESCRIPTION:Mit dem richtigen Wissen lässt sich Geld sparen und das Klima schützen\, denn: Energiesparen ist einfach und muss auch nicht mit großen Einschränkungen oder Investitionen verbunden sein. Mit simplen Maßnahmen und Verhaltensänderungen besteht in fast jedem Haushalt ein Einsparpotential von 10-20 Prozent. Ursula Vita\, Energieberaterin der Verbraucherzentrale Bayern vermittelt Ihnen in diesem Vortrag einfache und schnell umsetzbare Tipps.
DTEND:20261005T170000Z
LOCATION:Stadtteilbücherei Haunstetten\, Tattenbachstraße 15\, 86179 Augsburg\, DE
ORGANIZER;CN=Energieberatung der Verbraucherzentrale Bayern\, Stadtbücherei:mailto:Energieberatung der Verbraucherzentrale Bayern\, Stadtbücherei
DTSTART:20261005T160000Z
SUMMARY:BibliotECO: Heizenergie und Strom im Alltag sparen | Vortrag in Kooperation mit der Energieberatung der Verbraucherzentrale Bayern
UID:f277131b-412e-46f6-b810-a897646c9013@f277.org
END:VEVENT
END:VCALENDAR