BEGIN:VCALENDAR
VERSION:2.0
PRODID:ics.py - http://git.io/lLljaA
BEGIN:VEVENT
DTSTAMP:20260903T130000Z
DESCRIPTION:BibliothECO: Upcycling - mach was mit unseren alten Büchern. Unsere alten Büchereibücher sind nur was für den Müll? Wir zeigen\, was man daraus machen kann.Keine Anmeldung erforderlich. Eintritt frei.
DTEND:20260903T140000Z
LOCATION:Stadtteilbücherei Haunstetten\, Tattenbachstraße 15\, 86179 Augsburg\, DE
ORGANIZER;CN=Stadtteilbücherei Haunstetten:mailto:Stadtteilbücherei Haunstetten
DTSTART:20260903T130000Z
SUMMARY:BibliothECO: Upcycling - mach was mit unseren alten Büchern
UID:be65defa-e5e2-49a3-9736-05834a6e8b14@be65.org
END:VEVENT
END:VCALENDAR